BEGIN:VCALENDAR
VERSION:2.0
METHOD:PUBLISH
PRODID:-//ACC//Meetings//EN
BEGIN:VTIMEZONE
TZID:Eastern Standard Time
BEGIN:STANDARD
DTSTART:16011101T020000
RRULE:FREQ=YEARLY;BYDAY=1SU;BYMONTH=11
TZOFFSETFROM:-0400
TZOFFSETTO:-0500
TZNAME:Eastern Standard Time
END:STANDARD
BEGIN:DAYLIGHT
DTSTART:16010301T020000
RRULE:FREQ=YEARLY;BYDAY=2SU;BYMONTH=3
TZOFFSETFROM:-0500
TZOFFSETTO:-0400
TZNAME:Eastern Daylight Time
END:DAYLIGHT
END:VTIMEZONE
BEGIN:VEVENT
DESCRIPTION:\n\n\nWebinar Overview\nJoin us for a deep dive into the 2026 A
 CC/AHA/Multisociety Guideline on the Management of Dyslipidemia as it rela
 tes to your clinical practice.\nThe newly released 2026 ACC/AHA/Multisocie
 ty Guideline on the Management of Dyslipidemia includes a tremendous amoun
 t of valuable information on key areas of managing dyslipidemia including 
 lipid goals\, imaging\, biomarkers\, risk algorithms\, lifestyle therapies
  and advanced therapeutics. This webinar\, hosted by ACC's Prevention of C
 ardiovascular Disease Member Section\, will review the Guideline's key hig
 hlights and include an extensive discussion about its impact on clinical c
 are. Guideline authors and international experts will lead a short summary
  presentation and an engaging discussion\, followed by a Q&A.\nKey Objecti
 ves/Learning Outcomes:\n\nAppreciate the key differences from the prior dy
 slipidemia guideline.\nUnderstand the updated goals for lipid levels.\nBe 
 familiar with risk algorithms and treatment approaches. \n\n\nWebinar Reco
 rding\n\n\n-->\n\nWebinar Participants\nEugenia Gianos\, MD\, FACC\nRoger 
 Blumenthal\, MD\, FACC\nKonstantinos Koskinas\, MD\nJoseph Saseen\, PharmD
 \, FACC\nJohn Wilkins\, MD\nHeather Johnson\, MD\, MS\, FACC\nAnn Marie Na
 var\, MD\, FACC\n\nCredit Information\nNo credit is being offered for this
  webinar.\n\n\n\n\n\n    .videoWrapper {\n    position: relative\;\n    pa
 dding-bottom: 56.25%\; /* 16:9 */\n    padding-top: 25px\;\n    height: 0\
 ;\n    }\n    .videoWrapper iframe {\n    position: absolute\;\n    top: 0
 \;\n    left: 0\;\n    width: 100%\;\n    height: 100%\;\n    }\n
DTEND;TZID=Eastern Standard Time:20260429T131500
DTSTAMP:20260425T165530Z
DTSTART;TZID=Eastern Standard Time:20260429T130000
LOCATION:Online - Eastern Time (ET)
SEQUENCE:0
SUMMARY:Unpacking the 2026 Dyslipidemia Guideline
UID:19e33b35-5688-43d2-b846-679643dcb424@acc.org
X-ALT-DESC;FMTTYPE=text/html:<HTML><HEAD><META HTTP-EQUIV="Content-Type" CO
 NTENT="text/html\;charset=utf-8"></HEAD><BODY><div id="acc_arches_override
 ">\n<div class="w_100 c_acc p-t_1 p-b_1 p-r_4 p-l_4 m-b_4 m-t_4 br_solid b
 r_round br_acc texture_cross">\n\n<p class="font_1"><strong>Webinar Overvi
 ew</strong></p>\n<p class="font_0">Join us for a deep dive into the 2026 A
 CC/AHA/Multisociety Guideline on the Management of Dyslipidemia as it rela
 tes to your clinical practice.</p>\n<p class="font_0">The newly released <
 a href="https://www.jacc.org/doi/10.1016/j.jacc.2025.11.016" target="_blan
 k" class="new-window-icon"><strong>2026 ACC/AHA/Multisociety Guideline on 
 the Management of Dyslipidemia</strong></a> includes a tremendous amount o
 f valuable information on key areas of managing dyslipidemia including lip
 id goals\, imaging\, biomarkers\, risk algorithms\, lifestyle therapies an
 d advanced therapeutics. This webinar\, hosted by ACC's Prevention of Card
 iovascular Disease Member Section\, will review the Guideline's key highli
 ghts and include an extensive discussion about its impact on clinical care
 . Guideline authors and international experts will lead a short summary pr
 esentation and an engaging discussion\, followed by a Q&A.</p>\n<p class="
 font_0"><strong>Key Objectives/Learning Outcomes:</strong></p>\n<ol class=
 "font_0">\n<li>Appreciate the key differences from the prior dyslipidemia 
 guideline.</li>\n<li>Understand the updated goals for lipid levels.</li>\n
 <li>Be familiar with risk algorithms and treatment approaches. </li>\n</ol
 >\n\n<!--<p class="font_1"><strong>Webinar Recording</strong></p>\n<div cl
 ass="videoWrapper">\n<iframe width="560" height="315" src="https://www.you
 tube.com/embed/OOOOO?rel=0&modestbranding=1&widget_referrer" frameborder="
 0" allow="accelerometer\; autoplay\; encrypted-media\; gyroscope\; picture
 -in-picture" allowfullscreen></iframe>\n</div>-->\n\n<p class="font_1"><st
 rong>Webinar Participants</strong></p>\n<p><strong>Eugenia Gianos\, MD\, F
 ACC<br />\nRoger Blumenthal\, MD\, FACC<br />\nKonstantinos Koskinas\, MD<
 br />\nJoseph Saseen\, PharmD\, FACC<br />\nJohn Wilkins\, MD<br />\nHeath
 er Johnson\, MD\, MS\, FACC<br />\nAnn Marie Navar\, MD\, FACC</strong></p
 >\n\n<p class="font_1"><strong>Credit Information</strong></p>\n<p><em>No 
 credit is being offered for this webinar.</em></p>\n\n</div>\n\n</div>\n<s
 tyle type="text/css">\n    .videoWrapper {\n    position: relative\;\n    
 padding-bottom: 56.25%\; /* 16:9 */\n    padding-top: 25px\;\n    height: 
 0\;\n    }\n    .videoWrapper iframe {\n    position: absolute\;\n    top:
  0\;\n    left: 0\;\n    width: 100%\;\n    height: 100%\;\n    }\n</style
 ></BODY></HTML>
BEGIN:VALARM
ACTION:Display
DESCRIPTION:Reminder
TRIGGER:-PT15M
END:VALARM
END:VEVENT
END:VCALENDAR
