BEGIN:VCALENDAR
VERSION:2.0
METHOD:PUBLISH
PRODID:-//ACC//Meetings//EN
BEGIN:VTIMEZONE
TZID:Eastern Standard Time
BEGIN:STANDARD
DTSTART:16011101T020000
RRULE:FREQ=YEARLY;BYDAY=1SU;BYMONTH=11
TZOFFSETFROM:-0400
TZOFFSETTO:-0500
TZNAME:Eastern Standard Time
END:STANDARD
BEGIN:DAYLIGHT
DTSTART:16010301T020000
RRULE:FREQ=YEARLY;BYDAY=2SU;BYMONTH=3
TZOFFSETFROM:-0500
TZOFFSETTO:-0400
TZNAME:Eastern Daylight Time
END:DAYLIGHT
END:VTIMEZONE
BEGIN:VEVENT
DESCRIPTION:Join Dr. Quinn Capers IV for an exciting and informative talk a
 bout how to develop a diverse fellowship training program. Learn tools and
  best practices to incorporate into your organization's process and policy
 . This presentation will be followed by a live discussion and Q&A with pan
 elists Drs. Anna Lisa Crowley\, Gaby Weissman and Sakima Smith. We hope yo
 u can join us for our second installment of ACC's Diversity and Inclusion 
 Webinar Series.\n\n\n\n\n\n\n\n    .videoWrapper {\n    position: relative
 \;\n    padding-bottom: 56.25%\; /* 16:9 */\n    padding-top: 25px\;\n    
 height: 0\;\n    }\n    .videoWrapper iframe {\n    position: absolute\;\n
     top: 0\;\n    left: 0\;\n    width: 100%\;\n    height: 100%\;\n    }\
 n
DTEND;TZID=Eastern Standard Time:20210225T191500
DTSTAMP:20260421T033419Z
DTSTART;TZID=Eastern Standard Time:20210225T190000
LOCATION:Online - Eastern Time (ET)
SEQUENCE:0
SUMMARY:Tools and Best Practices For Enhancing Diversity in Cardiology Fell
 owship Training Programs
UID:696eb872-f94e-4cc3-b9e7-aeb8ffb4c1b0@acc.org
X-ALT-DESC;FMTTYPE=text/html:<HTML><HEAD><META HTTP-EQUIV="Content-Type" CO
 NTENT="text/html\;charset=utf-8"></HEAD><BODY><p>Join Dr. Quinn Capers IV 
 for an exciting and informative talk about how to develop a diverse fellow
 ship training program. Learn tools and best practices to incorporate into 
 your organization's process and policy. This presentation will be followed
  by a live discussion and Q&A with panelists Drs. Anna Lisa Crowley\, Gaby
  Weissman and Sakima Smith. We hope you can join us for our second install
 ment of ACC's Diversity and Inclusion Webinar Series.</p>\n\n<div class="v
 ideoWrapper">\n<iframe width="560" height="315" src="https://www.youtube.c
 om/embed/6jObrW46WYA?rel=0&modestbranding=1&widget_referrer" frameborder="
 0" allow="accelerometer\; autoplay\; encrypted-media\; gyroscope\; picture
 -in-picture" allowfullscreen></iframe>\n</div><br><br>\n\n\n<style type="t
 ext/css">\n    .videoWrapper {\n    position: relative\;\n    padding-bott
 om: 56.25%\; /* 16:9 */\n    padding-top: 25px\;\n    height: 0\;\n    }\n
     .videoWrapper iframe {\n    position: absolute\;\n    top: 0\;\n    le
 ft: 0\;\n    width: 100%\;\n    height: 100%\;\n    }\n</style></BODY></HT
 ML>
BEGIN:VALARM
ACTION:Display
DESCRIPTION:Reminder
TRIGGER:-PT15M
END:VALARM
END:VEVENT
END:VCALENDAR
