BEGIN:VCALENDAR
VERSION:2.0
METHOD:PUBLISH
PRODID:-//ACC//Meetings//EN
BEGIN:VTIMEZONE
TZID:Eastern Standard Time
BEGIN:STANDARD
DTSTART:16011101T020000
RRULE:FREQ=YEARLY;BYDAY=1SU;BYMONTH=11
TZOFFSETFROM:-0400
TZOFFSETTO:-0500
TZNAME:Eastern Standard Time
END:STANDARD
BEGIN:DAYLIGHT
DTSTART:16010301T020000
RRULE:FREQ=YEARLY;BYDAY=2SU;BYMONTH=3
TZOFFSETFROM:-0500
TZOFFSETTO:-0400
TZNAME:Eastern Daylight Time
END:DAYLIGHT
END:VTIMEZONE
BEGIN:VEVENT
DESCRIPTION:This webinar discusses the implications of virtual interviews f
 or the 2020 cardiology fellowship recruitment season and highlight best pr
 actices for the "Virtual Cardiology Fellowship Interview." Covering topics
  to include virtual interview etiquette\, best practices for the virtual i
 nterview\, how to prepare\, what to expect\, and how to bring "your best s
 elf" for the interview. Discussion on how to enhance applicants' knowledge
  of program attributes and culture and how  to get a feel for the "intangi
 bles" of the program without being able to visit in person this year. High
 lighting best practices for clear communication with the program administr
 ators/coordinators during virtual interview season and important tips from
  program coordinator/administrator perspective.\n\nPlease click here to ta
 ke a post webinar survey.\n-->\n\n\n\n\n\n\n    .videoWrapper {\n    posit
 ion: relative\;\n    padding-bottom: 56.25%\; /* 16:9 */\n    padding-top:
  25px\;\n    height: 0\;\n    }\n    .videoWrapper iframe {\n    position:
  absolute\;\n    top: 0\;\n    left: 0\;\n    width: 100%\;\n    height: 1
 00%\;\n    }\n
DTEND;TZID=Eastern Standard Time:20200805T160000
DTSTAMP:20260423T133702Z
DTSTART;TZID=Eastern Standard Time:20200805T150000
LOCATION:Online - Eastern Time (ET)
SEQUENCE:0
SUMMARY:Best Practices for Your Virtual Cardiology Fellowship Interviews
UID:792995cd-95ee-4f1d-8e56-3ae2ea0b20aa@acc.org
X-ALT-DESC;FMTTYPE=text/html:<HTML><HEAD><META HTTP-EQUIV="Content-Type" CO
 NTENT="text/html\;charset=utf-8"></HEAD><BODY><p>This webinar discusses th
 e implications of virtual interviews for the 2020 cardiology fellowship re
 cruitment season and highlight best practices for the "Virtual Cardiology 
 Fellowship Interview." Covering topics to include virtual interview etique
 tte\, best practices for the virtual interview\, how to prepare\, what to 
 expect\, and how to bring "your best self" for the interview. Discussion o
 n how to enhance applicants' knowledge of program attributes and culture a
 nd how  to get a feel for the "intangibles" of the program without being a
 ble to visit in person this year. Highlighting best practices for clear co
 mmunication with the program administrators/coordinators during virtual in
 terview season and important tips from program coordinator/administrator p
 erspective.</p>\n\n<!--\n<p><a href="https://accmels.wufoo.com/forms/best-
 practices-for-virtual-fellowship-interviews/" target="_blank" class="new-w
 indow-icon"><strong>Please click here to take a post webinar survey.</stro
 ng></a></p>\n-->\n\n<div class="videoWrapper">\n<iframe width="560" height
 ="315" src="https://www.youtube.com/embed/iGbgBJsyPEs?rel=0&modestbranding
 =1&widget_referrer" frameborder="0" allow="accelerometer\; autoplay\; encr
 ypted-media\; gyroscope\; picture-in-picture" allowfullscreen></iframe>\n<
 /div>\n\n<style type="text/css">\n    .videoWrapper {\n    position: relat
 ive\;\n    padding-bottom: 56.25%\; /* 16:9 */\n    padding-top: 25px\;\n 
    height: 0\;\n    }\n    .videoWrapper iframe {\n    position: absolute\
 ;\n    top: 0\;\n    left: 0\;\n    width: 100%\;\n    height: 100%\;\n   
  }\n</style><br><br></BODY></HTML>
BEGIN:VALARM
ACTION:Display
DESCRIPTION:Reminder
TRIGGER:-PT15M
END:VALARM
END:VEVENT
END:VCALENDAR
