BEGIN:VCALENDAR
VERSION:2.0
METHOD:PUBLISH
PRODID:-//ACC//Meetings//EN
BEGIN:VTIMEZONE
TZID:Eastern Standard Time
BEGIN:STANDARD
DTSTART:16011101T020000
RRULE:FREQ=YEARLY;BYDAY=1SU;BYMONTH=11
TZOFFSETFROM:-0400
TZOFFSETTO:-0500
TZNAME:Eastern Standard Time
END:STANDARD
BEGIN:DAYLIGHT
DTSTART:16010301T020000
RRULE:FREQ=YEARLY;BYDAY=2SU;BYMONTH=3
TZOFFSETFROM:-0500
TZOFFSETTO:-0400
TZNAME:Eastern Daylight Time
END:DAYLIGHT
END:VTIMEZONE
BEGIN:VEVENT
DESCRIPTION:The purpose of this webinar is to introduce FIT and early caree
 r ACC members with potential career pathways in aging research within inte
 rventional cardiology. \nThe aim is to build a cardiovascular community in
 terested in aging research across different subspecialties of cardiovascul
 ar medicine. \n\n\n\n\n\n\nACC Members\, discuss this on Member Hub\n\n\n\
 n    .videoWrapper {\n    position: relative\;\n    padding-bottom: 56.25%
 \; /* 16:9 */\n    padding-top: 25px\;\n    height: 0\;\n    }\n    .video
 Wrapper iframe {\n    position: absolute\;\n    top: 0\;\n    left: 0\;\n 
    width: 100%\;\n    height: 100%\;\n    }\n
DTEND;TZID=Eastern Standard Time:20210713T191500
DTSTAMP:20260424T165548Z
DTSTART;TZID=Eastern Standard Time:20210713T190000
LOCATION:Online - Eastern Time (ET)
SEQUENCE:0
SUMMARY:Geriatric Cardiology Research Spotlight: Aging Research Within Inte
 rventional Cardiology
UID:7d1bd004-fc3a-4114-85be-68d9a364dcec@acc.org
X-ALT-DESC;FMTTYPE=text/html:<HTML><HEAD><META HTTP-EQUIV="Content-Type" CO
 NTENT="text/html\;charset=utf-8"></HEAD><BODY><p>The purpose of this webin
 ar is to introduce FIT and early career ACC members with potential career 
 pathways in aging research within interventional cardiology. </p>\n<p>The 
 aim is to build a cardiovascular community interested in aging research ac
 ross different subspecialties of cardiovascular medicine. </p>\n\n<div cla
 ss="videoWrapper">\n<iframe width="560" height="315" src="https://www.yout
 ube.com/embed/N4hozvKBh18?rel=0&modestbranding=1&widget_referrer" framebor
 der="0" allow="accelerometer\; autoplay\; encrypted-media\; gyroscope\; pi
 cture-in-picture" allowfullscreen></iframe>\n</div><br><br>\n\n<div id="ac
 c_arches_override" align="center">\n<a href="https://memberhub.acc.org/dis
 cuss" class="bg_primary block br_radius c_white h:bg_primary-4 h:c_primary
  p-x_4 p-y_3 text_center font_0" target="_blank"><strong>ACC Members\, dis
 cuss this on Member Hub</strong></a>\n</div>\n\n<style type="text/css">\n 
    .videoWrapper {\n    position: relative\;\n    padding-bottom: 56.25%\;
  /* 16:9 */\n    padding-top: 25px\;\n    height: 0\;\n    }\n    .videoWr
 apper iframe {\n    position: absolute\;\n    top: 0\;\n    left: 0\;\n   
  width: 100%\;\n    height: 100%\;\n    }\n</style></BODY></HTML>
BEGIN:VALARM
ACTION:Display
DESCRIPTION:Reminder
TRIGGER:-PT15M
END:VALARM
END:VEVENT
END:VCALENDAR
