BEGIN:VCALENDAR
VERSION:2.0
METHOD:PUBLISH
PRODID:-//ACC//Meetings//EN
BEGIN:VTIMEZONE
TZID:Eastern Standard Time
BEGIN:STANDARD
DTSTART:16011101T020000
RRULE:FREQ=YEARLY;BYDAY=1SU;BYMONTH=11
TZOFFSETFROM:-0400
TZOFFSETTO:-0500
TZNAME:Eastern Standard Time
END:STANDARD
BEGIN:DAYLIGHT
DTSTART:16010301T020000
RRULE:FREQ=YEARLY;BYDAY=2SU;BYMONTH=3
TZOFFSETFROM:-0500
TZOFFSETTO:-0400
TZNAME:Eastern Daylight Time
END:DAYLIGHT
END:VTIMEZONE
BEGIN:VEVENT
DESCRIPTION:Is This the Year You Apply to Cardiology Fellowship?\nThis webi
 nar will cover all things related to the 2022 Cardiology Fellowship Applic
 ation Cycle.  We will review the timeline for fellowship and invite progra
 m directors from across the country to provide real examples of exactly wh
 at they are looking for in an application. We will also have PDs and APDs 
 discussing the best practices to have a successful interview day\, both vi
 rtually and in-person. Participants will be invited to participate in a Q&
 A session with the PDs in attendance to get all of your burning questions 
 answered before interview season begins.\n\nDownload Webinar Slides (9MB)\
 n\n\n\n\n\nACC Members\, discuss this on Member Hub\n\n\n\n    .videoWrapp
 er {\n    position: relative\;\n    padding-bottom: 56.25%\; /* 16:9 */\n 
    padding-top: 25px\;\n    height: 0\;\n    }\n    .videoWrapper iframe {
 \n    position: absolute\;\n    top: 0\;\n    left: 0\;\n    width: 100%\;
 \n    height: 100%\;\n    }\n
DTEND;TZID=Eastern Standard Time:20220602T191500
DTSTAMP:20260424T170606Z
DTSTART;TZID=Eastern Standard Time:20220602T190000
LOCATION:Online - Eastern Time (ET)
SEQUENCE:0
SUMMARY:Applying for Fellowship in 2022: Tips and Tricks Straight from Prog
 ram Directors - An ACC FIT and PDGME Section Collaboration
UID:995ad772-4b6b-4fdb-b0e9-2e998fbb8f75@acc.org
X-ALT-DESC;FMTTYPE=text/html:<HTML><HEAD><META HTTP-EQUIV="Content-Type" CO
 NTENT="text/html\;charset=utf-8"></HEAD><BODY><p>Is This the Year You Appl
 y to Cardiology Fellowship?</p>\n<p>This webinar will cover all things rel
 ated to the 2022 Cardiology Fellowship Application Cycle.  We will review 
 the timeline for fellowship and invite program directors from across the c
 ountry to provide real examples of exactly what they are looking for in an
  application. We will also have PDs and APDs discussing the best practices
  to have a successful interview day\, both virtually and in-person. Partic
 ipants will be invited to participate in a Q&A session with the PDs in att
 endance to get all of your burning questions answered before interview sea
 son begins.</p>\n\n<p><a href="~/media/06C37531C98447A7AA244EE7C2F8DA53.as
 hx" target="_blank" class="new-window-icon">Download Webinar Slides (9MB)<
 /a></p>\n<div class="videoWrapper">\n<iframe width="560" height="315" src=
 "https://www.youtube.com/embed/cS_o5xqeFUQ?rel=0&modestbranding=1&widget_r
 eferrer" frameborder="0" allow="accelerometer\; autoplay\; encrypted-media
 \; gyroscope\; picture-in-picture" allowfullscreen></iframe>\n</div><br><b
 r>\n\n<div id="acc_arches_override" align="center">\n<a href="https://memb
 erhub.acc.org/discuss" class="bg_primary block br_radius c_white h:bg_prim
 ary-4 h:c_primary p-x_4 p-y_3 text_center font_0" target="_blank"><strong>
 ACC Members\, discuss this on Member Hub</strong></a>\n</div>\n\n<style ty
 pe="text/css">\n    .videoWrapper {\n    position: relative\;\n    padding
 -bottom: 56.25%\; /* 16:9 */\n    padding-top: 25px\;\n    height: 0\;\n  
   }\n    .videoWrapper iframe {\n    position: absolute\;\n    top: 0\;\n 
    left: 0\;\n    width: 100%\;\n    height: 100%\;\n    }\n</style></BODY
 ></HTML>
BEGIN:VALARM
ACTION:Display
DESCRIPTION:Reminder
TRIGGER:-PT15M
END:VALARM
END:VEVENT
END:VCALENDAR
