BEGIN:VCALENDAR
VERSION:2.0
METHOD:PUBLISH
PRODID:-//ACC//Meetings//EN
BEGIN:VTIMEZONE
TZID:Eastern Standard Time
BEGIN:STANDARD
DTSTART:16011101T020000
RRULE:FREQ=YEARLY;BYDAY=1SU;BYMONTH=11
TZOFFSETFROM:-0400
TZOFFSETTO:-0500
TZNAME:Eastern Standard Time
END:STANDARD
BEGIN:DAYLIGHT
DTSTART:16010301T020000
RRULE:FREQ=YEARLY;BYDAY=2SU;BYMONTH=3
TZOFFSETFROM:-0500
TZOFFSETTO:-0400
TZNAME:Eastern Daylight Time
END:DAYLIGHT
END:VTIMEZONE
BEGIN:VEVENT
DESCRIPTION:This webinar will cover the timeline for the fellowship applica
 tion process\, best practices for the virtual interview\, how to prepare\,
  what to expect\, and how to bring "your best self" for the interview. You
  will also hear from a program administrator on best practices for clear c
 ommunication and important tips for the interview season. Multiple program
  directors will share what they look for and we will have a full panel dis
 cussion to address questions submitted before and during the webinar.\n\n\
 n\n\n\n\nACC Members\, discuss this on Member Hub\n\n\n\n    .videoWrapper
  {\n    position: relative\;\n    padding-bottom: 56.25%\; /* 16:9 */\n   
  padding-top: 25px\;\n    height: 0\;\n    }\n    .videoWrapper iframe {\n
     position: absolute\;\n    top: 0\;\n    left: 0\;\n    width: 100%\;\n
     height: 100%\;\n    }\n
DTEND;TZID=Eastern Standard Time:20210720T191500
DTSTAMP:20260424T165548Z
DTSTART;TZID=Eastern Standard Time:20210720T190000
LOCATION:Online - Eastern Time (ET)
SEQUENCE:0
SUMMARY:Applying for Cardiology Fellowship – Insights from Program Director
 s & Trainees
UID:ac753cd3-773d-42ea-b56d-f1566b662a9c@acc.org
X-ALT-DESC;FMTTYPE=text/html:<HTML><HEAD><META HTTP-EQUIV="Content-Type" CO
 NTENT="text/html\;charset=utf-8"></HEAD><BODY><p>This webinar will cover t
 he timeline for the fellowship application process\, best practices for th
 e virtual interview\, how to prepare\, what to expect\, and how to bring "
 your best self" for the interview. You will also hear from a program admin
 istrator on best practices for clear communication and important tips for 
 the interview season. Multiple program directors will share what they look
  for and we will have a full panel discussion to address questions submitt
 ed before and during the webinar.</p>\n\n<div class="videoWrapper">\n<ifra
 me width="560" height="315" src="https://www.youtube.com/embed/cA9aPAocV9k
 ?rel=0&modestbranding=1&widget_referrer" frameborder="0" allow="accelerome
 ter\; autoplay\; encrypted-media\; gyroscope\; picture-in-picture" allowfu
 llscreen></iframe>\n</div><br><br>\n\n<div id="acc_arches_override" align=
 "center">\n<a href="https://memberhub.acc.org/discuss" class="bg_primary b
 lock br_radius c_white h:bg_primary-4 h:c_primary p-x_4 p-y_3 text_center 
 font_0" target="_blank"><strong>ACC Members\, discuss this on Member Hub</
 strong></a>\n</div>\n\n<style type="text/css">\n    .videoWrapper {\n    p
 osition: relative\;\n    padding-bottom: 56.25%\; /* 16:9 */\n    padding-
 top: 25px\;\n    height: 0\;\n    }\n    .videoWrapper iframe {\n    posit
 ion: absolute\;\n    top: 0\;\n    left: 0\;\n    width: 100%\;\n    heigh
 t: 100%\;\n    }\n</style></BODY></HTML>
BEGIN:VALARM
ACTION:Display
DESCRIPTION:Reminder
TRIGGER:-PT15M
END:VALARM
END:VEVENT
END:VCALENDAR
