BEGIN:VCALENDAR
VERSION:2.0
METHOD:PUBLISH
PRODID:-//ACC//Meetings//EN
BEGIN:VTIMEZONE
TZID:Eastern Standard Time
BEGIN:STANDARD
DTSTART:16011101T020000
RRULE:FREQ=YEARLY;BYDAY=1SU;BYMONTH=11
TZOFFSETFROM:-0400
TZOFFSETTO:-0500
TZNAME:Eastern Standard Time
END:STANDARD
BEGIN:DAYLIGHT
DTSTART:16010301T020000
RRULE:FREQ=YEARLY;BYDAY=2SU;BYMONTH=3
TZOFFSETFROM:-0500
TZOFFSETTO:-0400
TZNAME:Eastern Daylight Time
END:DAYLIGHT
END:VTIMEZONE
BEGIN:VEVENT
DESCRIPTION:Join the ACC CV Imaging Section for a webinar addressing the un
 ique opportunities and challenges that exist for trainees and young profes
 sionals in pursuing training and employment in multimodality cardiovascula
 r imaging.\nThe goals of this webinar are to:\n\nReview the current state 
 of multimodality CV imaging training\nReview potential benefits of compete
 ncy-based training in CV imaging\nDiscuss potential models for CV imaging 
 training\nOutline challenges and opportunities for specialty certification
 \n\n\n\n\n\n\n\nACC Members\, discuss this on Member Hub\n\n\n\n    .video
 Wrapper {\n    position: relative\;\n    padding-bottom: 56.25%\; /* 16:9 
 */\n    padding-top: 25px\;\n    height: 0\;\n    }\n    .videoWrapper ifr
 ame {\n    position: absolute\;\n    top: 0\;\n    left: 0\;\n    width: 1
 00%\;\n    height: 100%\;\n    }\n
DTEND;TZID=Eastern Standard Time:20210818T181500
DTSTAMP:20260424T165517Z
DTSTART;TZID=Eastern Standard Time:20210818T180000
LOCATION:Online - Eastern Time (ET)
SEQUENCE:0
SUMMARY:Multimodality CV Imaging Training: Challenges and Opportunities
UID:e4381eaa-e30b-4b3d-ad0d-9170cf2b8b48@acc.org
X-ALT-DESC;FMTTYPE=text/html:<HTML><HEAD><META HTTP-EQUIV="Content-Type" CO
 NTENT="text/html\;charset=utf-8"></HEAD><BODY><p>Join the ACC CV Imaging S
 ection for a webinar addressing the unique opportunities and challenges th
 at exist for trainees and young professionals in pursuing training and emp
 loyment in multimodality cardiovascular imaging.</p>\n<p><strong>The goals
  of this webinar are to:</strong></p>\n<ul>\n<li>Review the current state 
 of multimodality CV imaging training</li>\n<li>Review potential benefits o
 f competency-based training in CV imaging</li>\n<li>Discuss potential mode
 ls for CV imaging training</li>\n<li>Outline challenges and opportunities 
 for specialty certification</li>\n</ul>\n\n<div class="videoWrapper">\n<if
 rame width="560" height="315" src="https://www.youtube.com/embed/_s8VT6gQ9
 xE?rel=0&modestbranding=1&widget_referrer" frameborder="0" allow="accelero
 meter\; autoplay\; encrypted-media\; gyroscope\; picture-in-picture" allow
 fullscreen></iframe>\n</div><br><br>\n\n<div id="acc_arches_override" alig
 n="center">\n<a href="https://memberhub.acc.org/discuss" class="bg_primary
  block br_radius c_white h:bg_primary-4 h:c_primary p-x_4 p-y_3 text_cente
 r font_0" target="_blank"><strong>ACC Members\, discuss this on Member Hub
 </strong></a>\n</div>\n\n<style type="text/css">\n    .videoWrapper {\n   
  position: relative\;\n    padding-bottom: 56.25%\; /* 16:9 */\n    paddin
 g-top: 25px\;\n    height: 0\;\n    }\n    .videoWrapper iframe {\n    pos
 ition: absolute\;\n    top: 0\;\n    left: 0\;\n    width: 100%\;\n    hei
 ght: 100%\;\n    }\n</style></BODY></HTML>
BEGIN:VALARM
ACTION:Display
DESCRIPTION:Reminder
TRIGGER:-PT15M
END:VALARM
END:VEVENT
END:VCALENDAR
